BEGIN:VCALENDAR
VERSION:2.0
PRODID:-//Tukios.com/
BEGIN:VEVENT
UID:66c8816a-68f9-4266-9f65-bdec9bb98d88@www.darbyfuneralhome.com
DTSTAMP:20260421T222456Z
DTSTART:20260424T180000Z
DTEND:20260424T190000Z
SUMMARY:Celebration of Life
DESCRIPTION:
URL:https://www.darbyfuneralhome.com/obituaries/anthony-basila
LOCATION: 3595 Sugar Pike Road  Canton GA 30115
GEO:34.1730458;-84.3819669
END:VEVENT
END:VCALENDAR