BEGIN:VCALENDAR
VERSION:2.0
PRODID:-//Tukios.com/
BEGIN:VEVENT
UID:94591845-41af-4b5b-b92b-f146ccde2e48@www.darbyfuneralhome.com
DTSTAMP:20260422T203820Z
DTSTART:20260424T150000Z
DTEND:20260424T160000Z
SUMMARY:Visitation
DESCRIPTION:
URL:https://www.darbyfuneralhome.com/obituaries/bobby-self
LOCATION: 480 E Main St  Canton GA 30114
GEO:34.2359483;-84.4865358
END:VEVENT
END:VCALENDAR