BEGIN:VCALENDAR
VERSION:2.0
PRODID:-//Tukios.com/
BEGIN:VEVENT
UID:20b64160-5316-4652-8d2c-9e769ac5f9de@www.darbyfuneralhome.com
DTSTAMP:20260422T203953Z
DTSTART:20260424T160000Z
DTEND:20260424T170000Z
SUMMARY:Funeral Service
DESCRIPTION:
URL:https://www.darbyfuneralhome.com/obituaries/bobby-self
LOCATION: 480 E Main St  Canton GA 30114
GEO:34.2359483;-84.4865358
END:VEVENT
END:VCALENDAR