BEGIN:VCALENDAR
VERSION:2.0
PRODID:-//Tukios.com/
BEGIN:VEVENT
UID:7cee9033-6677-4cfa-9288-ecfd0e614d14@www.darbyfuneralhome.com
DTSTAMP:20260423T174645Z
DTSTART:20260424T190000Z
DTEND:20260425T000000Z
SUMMARY:Visitation
DESCRIPTION:
URL:https://www.darbyfuneralhome.com/obituaries/melvin-moody
LOCATION: 480 E Main St  Canton GA 30114
GEO:34.2359483;-84.4865358
END:VEVENT
END:VCALENDAR