BEGIN:VCALENDAR
VERSION:2.0
PRODID:-//Tukios.com/
BEGIN:VEVENT
UID:3c12fff8-cd1c-42db-a7cb-8e8b631ccfc2@www.darbyfuneralhome.com
DTSTAMP:20260423T174409Z
DTSTART:20260425T150000Z
DTEND:20260425T180000Z
SUMMARY:Visitation
DESCRIPTION:
URL:https://www.darbyfuneralhome.com/obituaries/melvin-moody
LOCATION: 480 E Main St  Canton GA 30114
GEO:34.2359483;-84.4865358
END:VEVENT
END:VCALENDAR