BEGIN:VCALENDAR
VERSION:2.0
PRODID:-//Tukios.com/
BEGIN:VEVENT
UID:08d4bf33-4192-4fd4-8ced-9a141a7ec577@www.darbyfuneralhome.com
DTSTAMP:20260423T174332Z
DTSTART:20260425T180000Z
DTEND:20260425T190000Z
SUMMARY:Funeral Service
DESCRIPTION:
URL:https://www.darbyfuneralhome.com/obituaries/melvin-moody
LOCATION: 480 E Main St  Canton GA 30114
GEO:34.2359483;-84.4865358
END:VEVENT
END:VCALENDAR